BEGIN:VCALENDAR
VERSION:2.0
PRODID:-//Pittsworth Queensland - ECPv4.5.9//NONSGML v1.0//EN
CALSCALE:GREGORIAN
METHOD:PUBLISH
X-WR-CALNAME:Pittsworth Queensland
X-ORIGINAL-URL:http://pittsworth.org.au
X-WR-CALDESC:Events for Pittsworth Queensland
BEGIN:VEVENT
DTSTART;TZID=Australia/Brisbane:20170429T180000
DTEND;TZID=Australia/Brisbane:20170429T230000
DTSTAMP:20190227T115203
CREATED:20170417T054059Z
LAST-MODIFIED:20170417T054059Z
UID:808-1493488800-1493506800@pittsworth.org.au
SUMMARY:Body By U - Pittsworth Rumble Amateur Fight Night
DESCRIPTION: \n
URL:http://pittsworth.org.au/event/body-by-u-pittsworth-rumble-amateur-fight-night/
LOCATION:Yandilla Street \, Pittsworth \, QLD \, 4356\, Australia
CATEGORIES:Entertainment/Music,Event,Sports
END:VEVENT
END:VCALENDAR