BEGIN:VCALENDAR
VERSION:2.0
PRODID:-//Pittsworth Queensland - ECPv4.5.9//NONSGML v1.0//EN
CALSCALE:GREGORIAN
METHOD:PUBLISH
X-WR-CALNAME:Pittsworth Queensland
X-ORIGINAL-URL:http://pittsworth.org.au
X-WR-CALDESC:Events for Pittsworth Queensland
BEGIN:VEVENT
DTSTART;TZID=Australia/Brisbane:20170606T064500
DTEND;TZID=Australia/Brisbane:20170606T080000
DTSTAMP:20190227T114909
CREATED:20170523T080418Z
LAST-MODIFIED:20170523T080418Z
UID:816-1496731500-1496736000@pittsworth.org.au
SUMMARY:June Business Breakfast - Guest speaker Ryan Williams from NBN
DESCRIPTION: \n
URL:http://pittsworth.org.au/event/june-business-breakfast-guest-speaker-ryan-williams-from-nbn/
LOCATION:Yandilla Street \, Pittsworth \, QLD \, 4356\, Australia
CATEGORIES:Breakfast Meeting,Event,Meetings
ORGANIZER;CN="Pittsworth%20District%20Alliance":MAILTO:info@pittsworth.org.au
END:VEVENT
END:VCALENDAR