BEGIN:VCALENDAR
VERSION:2.0
PRODID:-//Pittsworth Queensland - ECPv4.5.9//NONSGML v1.0//EN
CALSCALE:GREGORIAN
METHOD:PUBLISH
X-WR-CALNAME:Pittsworth Queensland
X-ORIGINAL-URL:http://pittsworth.org.au
X-WR-CALDESC:Events for Pittsworth Queensland
BEGIN:VEVENT
DTSTART;VALUE=DATE:20170722
DTEND;VALUE=DATE:20170723
DTSTAMP:20190227T115153
CREATED:20170623T025956Z
LAST-MODIFIED:20170623T025956Z
UID:831-1500681600-1500854399@pittsworth.org.au
SUMMARY:Pittsworth and District Campdraft
DESCRIPTION:
URL:http://pittsworth.org.au/event/pittsworth-and-district-campdraft/
LOCATION:Australia
ATTACH;FMTTYPE=image/jpeg:http://pittsworth.org.au/wp-content/uploads/2017/06/campdraft.jpg
END:VEVENT
END:VCALENDAR