BEGIN:VCALENDAR
VERSION:2.0
PRODID:-//Pittsworth Queensland - ECPv4.5.9//NONSGML v1.0//EN
CALSCALE:GREGORIAN
METHOD:PUBLISH
X-WR-CALNAME:Pittsworth Queensland
X-ORIGINAL-URL:http://pittsworth.org.au
X-WR-CALDESC:Events for Pittsworth Queensland
BEGIN:VEVENT
DTSTART;TZID=Australia/Brisbane:20170304T143000
DTEND;TZID=Australia/Brisbane:20170304T170000
DTSTAMP:20190227T115224
CREATED:20161125T080410Z
LAST-MODIFIED:20161207T060157Z
UID:763-1488637800-1488646800@pittsworth.org.au
SUMMARY:Pittsworth Tennis Ladies Fixture Reunion
DESCRIPTION:Pittsworth Tennis Ladies Fixture Reunion at the Pittsworth Tennis Club.  All previous and playing members are invited to attend.  We envisage the afternoon will commence with drinks and finger food and lots of chatter and then adjourn to one of the motels for dinner. \nIf you are in contact with other players who you know have played over the years\, please pass on the news. \nWe have draw sheets for the past 25 years\, so we will endeavour and through your help contact as many as possible. \n
URL:http://pittsworth.org.au/event/pittsworth-tennis-ladies-fixture-reunion/
LOCATION:Briggs Street\, Pittsworth\, Australia
CATEGORIES:Event
ATTACH;FMTTYPE=image/jpeg:http://pittsworth.org.au/wp-content/uploads/2016/11/Tennis-Racquet-Picturejpg.jpg
END:VEVENT
END:VCALENDAR